BEGIN:VCALENDAR
VERSION:2.0
PRODID:-//InvisionCommunity Events 5.0.14//EN
METHOD:PUBLISH
CALSCALE:GREGORIAN
REFRESH-INTERVAL:PT15M
X-PUBLISHED-TTL:PT15M
X-WR-CALNAME:Všechny kalendáře - AudioMAG
NAME:Všechny kalendáře - AudioMAG
BEGIN:VTIMEZONE
TZID:Europe/London
TZURL:https://tzurl.org/zoneinfo/Europe/London
X-LIC-LOCATION:Europe/London
BEGIN:DAYLIGHT
TZOFFSETFROM:+0000
TZOFFSETTO:+0100
TZNAME:BST
DTSTART:20250330T020000Z
RRULE:FREQ=YEARLY;BYMONTH=3;BYDAY=-1SU
END:DAYLIGHT
BEGIN:STANDARD
TZOFFSETFROM:+0100
TZOFFSETTO:+0000
TZNAME:GMT
DTSTART:20251026T020000Z
RRULE:FREQ=YEARLY;BYMONTH=10;BYDAY=-1SU
END:STANDARD
END:VTIMEZONE
BEGIN:VTIMEZONE
TZID:Europe/London
TZURL:https://tzurl.org/zoneinfo/Europe/London
X-LIC-LOCATION:Europe/London
BEGIN:DAYLIGHT
TZOFFSETFROM:+0000
TZOFFSETTO:+0100
TZNAME:BST
DTSTART:20230326T020000Z
RRULE:FREQ=YEARLY;BYMONTH=3;BYDAY=-1SU
END:DAYLIGHT
BEGIN:STANDARD
TZOFFSETFROM:+0100
TZOFFSETTO:+0000
TZNAME:GMT
DTSTART:20231029T020000Z
RRULE:FREQ=YEARLY;BYMONTH=10;BYDAY=-1SU
END:STANDARD
END:VTIMEZONE
BEGIN:VEVENT
SUMMARY:LIONEL RICHIE - Say Hello to the History Tour
DTSTAMP:20250620T005802Z
SEQUENCE:0
UID:12-3-46d0973109084d919b53f9819744a2af@www.audiomag.cz
ORGANIZER;CN="Kazatel":forum@audiomag.cz
DESCRIPTION:Superstar Lionel Richie ohlásil evropské turné s názve
	m „Say Hello To The Hits“. Oceňovaný hudebník\, který je známý
	 svými jemnými vokály a nadčasovými klasickými skladbami\, se vydá
	 na sérii elektrizujících vystoupení včetně koncertu v pražské O
	2 areně 6. července!Lionel Richie\, ikona oceněná cenami Grammy®\, Os
	carem® a Zlatým glóbem®\, prodal po celém světě více než 125 mil
	ionů desek. Jako jedna z nejslavnějších osobností hudební historie 
	má za sebou slavnou kariéru trvající několik desetiletí\, během n
	íž vznikly nezapomenutelné hymny jako „Hello“\, „All Night Lo
	ng“\, „Say You Say Me“\, „We Are The World“\, „Easy“ a mno
	ho dalších.Richie je proslulý svým prvotřídním showmanstvím a sch
	opností navázat kontakt s publikem napříč generacemi\, jeho vystoupe
	ní jsou mistrovskou třídou nostalgie i energie. Jeho hlavní vystoupen
	í na Pyramid Stage v roce 2015 na festivalu Glastonbury přilákalo ne
	jvětší počet diváků a upevnilo jeho pozici legendárního koncertn
	ího umělce. Koncert „Say Hello To The Hits“ bude kouzelnou poctou Ri
	chieho trvalému odkazu jednoho z největších hudebních skladatelů a
	 bavičů a skutečné kulturní ikony.OFICIÁLNÍMI PRODEJCI AKCE JSOU TI
	CKETPORTAL A TICKETMASTER. ZA PLATNOST VSTUPENEK ZAKOUPENÝCH U JINÝCH PR
	ODEJCŮ NERUČÍME.
DTSTART:20250706T180000Z
DTEND:20250706T215300Z
END:VEVENT
BEGIN:VEVENT
SUMMARY:HIGH END munich 2025
DTSTAMP:20250505T132044Z
SEQUENCE:0
UID:11-5-46d0973109084d919b53f9819744a2af@www.audiomag.cz
ORGANIZER;CN="Speed":forum@audiomag.cz
DESCRIPTION:The leading international audio showThe internationally reno
	wned audio fair HIGH END and its parallel events IPS - International Parts
	 + Supply and WORLD OF HEADPHONES unquestionably set the standard for prem
	ium music reproduction. For over four decades\, the HIGH END has been a ca
	talyst for producers\, sellers\, and consumers of high-quality entertainme
	nt electronics. In May\, the entire industry convenes in Munich as hundred
	s of exhibitors from over 40 countries showcase their latest innovations i
	n the halls and atriums of the MOC.\n
DTSTART;VALUE=DATE:20250515
DTEND;VALUE=DATE:20250519
END:VEVENT
BEGIN:VEVENT
SUMMARY:AQ Show 2023 – prodejní výstava
DTSTAMP:20230912T173912Z
SEQUENCE:0
UID:10-5-46d0973109084d919b53f9819744a2af@www.audiomag.cz
ORGANIZER;CN="Kazatel":forum@audiomag.cz
DESCRIPTION:\n	Prodejní výstava hifi. Proběhne ve dnech 13. a 14. ř
	íjna v sídle firmy AQ v Července a těšit se můžete na:\n\n	- exklu
	zivní prezentaci novinek značek AQ\, Pro-Ject\, Arcam\, AudioQuest\, JBL
	 a GoldenEar\n\n	- mimořádné  slevy na hifi techniku a repro\n\n	- s
	kvělé občerstvení\n\n\n\n	Podrobnosti a program\n\n
DTSTART:20231013T080000Z
DTEND:20231014T160000Z
END:VEVENT
BEGIN:VEVENT
SUMMARY:Pilot Study - Starlight
DTSTAMP:20230908T111449Z
SEQUENCE:0
UID:9-3-46d0973109084d919b53f9819744a2af@www.audiomag.cz
ORGANIZER;CN="Fernet":forum@audiomag.cz
DESCRIPTION:\n	Kapela Pilot Study vás zve na koncert\, který se koná 
	ve čtvrtek 9. listopadu od 19.30 v hudebním klubu Kamina Boat (Příst
	aviště Na Františku\, Praha 1).\n\n\n\n	Na programu je kompletní konc
	ertní provedení jejich rockové opery ‘Starlight’\, dojde i na song
	y z předchozích alb\, bude to první vystoupení na vodě (resp. v podp
	alubí) … ale především se jedná o POSLEDNÍ KONCERT PILOT STUDY! Ta
	k si tuhle akci rozhodně nenechte ujít! \n\n\n\n	Kamina Boat\n\n
DTSTART:20231109T183000Z
END:VEVENT
BEGIN:VEVENT
SUMMARY:Signal Festival
DTSTAMP:20230904T124519Z
SEQUENCE:0
UID:8-5-46d0973109084d919b53f9819744a2af@www.audiomag.cz
ORGANIZER;CN="Speed":forum@audiomag.cz
DESCRIPTION:\n	Jedenáctý Signal Festival zahajuje novou výpravu za s
	větlem a uměním. Příroda\, technologie\, společnost\, kultura – t
	o vše spolu tvoří ekosystémy\, v nichž žijeme a hledáme stopy rados
	ti\, krásy i vzrušení z nových objevů. Budeme pozorovat svět a jeho 
	rozmanitost\, přiblížíme se k detailu\, abychom uviděli celek. Budeme
	 prozkoumávat naše ekosystémy očima uměleckých děl\, která si dal
	a za cíl hledat a objevovat. Setkáme se s umělou inteligencí\, přír
	odními živly\, architektonickým řádem\, matematikou\, biologií\, poe
	tikou\, dramatem i hrou. Vydáme se do hlubin našeho univerza a budeme ob
	divovat jeho rozmanitost. Signal Festival Ecosystems I: Explore!\n\n
DTSTART;VALUE=DATE:20231012
DTEND;VALUE=DATE:20231016
END:VEVENT
BEGIN:VEVENT
SUMMARY:The Sisters of Mercy - Lucerna Music Bar\, Praha
DTSTAMP:20230810T152610Z
SEQUENCE:0
UID:7-3-46d0973109084d919b53f9819744a2af@www.audiomag.cz
ORGANIZER;CN="Kazatel":forum@audiomag.cz
DESCRIPTION:\n	Britská rocková kapela The Sisters of Mercy se vrací d
	o Prahy v rámci své evropské tour!\n\n
DTSTART:20231012T173000Z
END:VEVENT
BEGIN:VEVENT
SUMMARY:Björk koncert O2 arena
DTSTAMP:20230810T151858Z
SEQUENCE:0
UID:6-3-46d0973109084d919b53f9819744a2af@www.audiomag.cz
ORGANIZER;CN="Kazatel":forum@audiomag.cz
DESCRIPTION:\n	Islandská zpěvačka a umělkyně Björk se vrací do Pr
	ahy se svým multimediálním dílem Cornucopia.\n\n\n\n	Vstupenky na Tick
	etmaster\n\n
DTSTART:20230916T180000Z
END:VEVENT
BEGIN:VEVENT
SUMMARY:Krausberry - Praha
DTSTAMP:20230810T150429Z
SEQUENCE:0
UID:5-3-46d0973109084d919b53f9819744a2af@www.audiomag.cz
ORGANIZER;CN="Kazatel":forum@audiomag.cz
DESCRIPTION:\n	Blues rocková legenda v Malostranské besedě\n\n
DTSTART:20230908T183000Z
END:VEVENT
END:VCALENDAR
